BEGIN:VCALENDAR
VERSION:2.0
PRODID:-//Stanley Grange - ECPv6.15.20//NONSGML v1.0//EN
CALSCALE:GREGORIAN
METHOD:PUBLISH
X-ORIGINAL-URL:https://www.stanleygrange.org.uk
X-WR-CALDESC:Events for Stanley Grange
REFRESH-INTERVAL;VALUE=DURATION:PT1H
X-Robots-Tag:noindex
X-PUBLISHED-TTL:PT1H
BEGIN:VTIMEZONE
TZID:UTC
BEGIN:STANDARD
TZOFFSETFROM:+0000
TZOFFSETTO:+0000
TZNAME:UTC
DTSTART:20130101T000000
END:STANDARD
END:VTIMEZONE
BEGIN:VEVENT
DTSTART;TZID=UTC:20221222T140000
DTEND;TZID=UTC:20221222T153000
DTSTAMP:20260419T133217
CREATED:20221107T233328Z
LAST-MODIFIED:20221107T233330Z
UID:7994-1671717600-1671723000@www.stanleygrange.org.uk
SUMMARY:Go on Tour Christmas Show
DESCRIPTION:It’s beginning to look a lot like Christmas!\nIf you enjoyed our show with the talented Go on tour performers in May\, why not join us for this spectacular Christmas show they will be performing at Hoghton Village Hall for Stanley Grange residents\, friends\, family and staff. \nThe show is booked for Thursday 22nd December\, 2pm. \nTickets cost £3 and refreshments will be available to purchase. \nTo book tickets contact Liam on the link below: \nhttp://Activities <Activities@stanleygrange.org.uk> \nGo on Tour
URL:https://www.stanleygrange.org.uk/event/go-on-tour-christmas-show
LOCATION:Hoghton Village Hall\, Blackburn Old Rd\,\, Preston\, PR5 0SG\, United Kingdom
CATEGORIES:Family Fun
ORGANIZER;CN="Stanley Grange Community Association":MAILTO:activities@stanleygrange.org.uk
END:VEVENT
BEGIN:VEVENT
DTSTART;TZID=UTC:20220722T200000
DTEND;TZID=UTC:20220722T210000
DTSTAMP:20260419T133217
CREATED:20220720T172535Z
LAST-MODIFIED:20220720T172734Z
UID:7983-1658520000-1658523600@www.stanleygrange.org.uk
SUMMARY:Stanley Grange Sponsored Swim 2022 - 22nd July
DESCRIPTION:STANLEY GRANGE ANNUAL SPONSORED SWIM\n\nOur sponsored swim is a wonderful way for our residents to enjoy an active lifestyle whilst raising funds to support Stanley Grange. The event is a fundraising event organised by friends\, family or co-workers.\n\nOur residents at Stanley Grange are currently in training for this year’s sponsored swim held at Darwen Leisure Centre on 22nd July at 8pm. The event is also supported by Blackburn Centurions.\n\nFundraising events are a valuable source of income and enable us to provide purposeful activities for our residents and renovate buildings at Stanley Grange.\n\nIf you are able to support the event by joining us as a spectator or making a donation\, both are very much appreciated. Thank you for helping us to continue the great work that is delivered at Stanley Grange.\n\nPlease use the link below to make a donation\, thank you.\n\nhttps://www.gofundme.com/f/stanley-grange-sponsored-swim?utm_source=customer&utm_medium=copy_link&utm_campaign=p_cf+share-flow-1
URL:https://www.stanleygrange.org.uk/event/stanley-grange-sponsored-swim-2022-22nd-july
LOCATION:Darwen Leisure Centre
CATEGORIES:Family Fun
END:VEVENT
BEGIN:VEVENT
DTSTART;VALUE=DATE:20150911
DTEND;VALUE=DATE:20190912
DTSTAMP:20260419T133217
CREATED:20150506T092946Z
LAST-MODIFIED:20150506T092946Z
UID:593-1441929600-1568246399@www.stanleygrange.org.uk
SUMMARY:Kitten Adoption Day
DESCRIPTION:I’ve done everything the Bible says — even the stuff that contradicts the other stuff! Our differences are only skin deep\, but our sames go down to the bone. And now\, in the spirit of the season: start shopping. And for every dollar of Krusty merchandise you buy\, I will be nice to a sick kid. For legal purposes\, sick kids may include hookers with a cold. And here I am using my own lungs like a sucker. What good is money if it can’t inspire terror in your fellow man? Homer no function beer well without.
URL:https://www.stanleygrange.org.uk/event/kitten-adoption-day
CATEGORIES:Family Fun
ATTACH;FMTTYPE=:
END:VEVENT
BEGIN:VEVENT
DTSTART;VALUE=DATE:20150813
DTEND;VALUE=DATE:20190814
DTSTAMP:20260419T133217
CREATED:20150506T092946Z
LAST-MODIFIED:20150506T092946Z
UID:591-1439424000-1565740799@www.stanleygrange.org.uk
SUMMARY:Dinner Party
DESCRIPTION:Look\, my liege! Shut up! Will you shut up?! What a strange person. But you are dressed as one… You don’t frighten us\, English pig-dogs! Go and boil your bottoms\, sons of a silly person! I blow my nose at you\, so-called Ah-thoor Keeng\, you and all your silly English K-n-n-n-n-n-n-n-niggits! The Lady of the Lake\, her arm clad in the purest shimmering samite\, held aloft Excalibur from the bosom of the water\, signifying by divine providence that I\, Arthur\, was to carry Excalibur. That is why I am your king.
URL:https://www.stanleygrange.org.uk/event/dinner-party
CATEGORIES:Party
ATTACH;FMTTYPE=:
END:VEVENT
BEGIN:VEVENT
DTSTART;VALUE=DATE:20150724
DTEND;VALUE=DATE:20190725
DTSTAMP:20260419T133217
CREATED:20150506T092946Z
LAST-MODIFIED:20150506T092946Z
UID:595-1437696000-1564012799@www.stanleygrange.org.uk
SUMMARY:Cupcake Decorating
DESCRIPTION:Oh God\, my uncle. How am I ever gonna explain this? The plans you refer to will soon be back in our hands. I suggest you try it again\, Luke. This time\, let go your conscious self and act on instinct. I want to come with you to Alderaan. There’s nothing for me here now. I want to learn the ways of the Force and be a Jedi\, like my father before me. As you wish. I don’t know what you’re talking about. I am a member of the Imperial Senate on a diplomatic mission to Alderaan–
URL:https://www.stanleygrange.org.uk/event/cupcake-decorating
CATEGORIES:Family Fun
ATTACH;FMTTYPE=:
END:VEVENT
BEGIN:VEVENT
DTSTART;VALUE=DATE:20150710
DTEND;VALUE=DATE:20190712
DTSTAMP:20260419T133217
CREATED:20150506T092946Z
LAST-MODIFIED:20150506T092946Z
UID:594-1436486400-1562889599@www.stanleygrange.org.uk
SUMMARY:Weekend Long Adventure
DESCRIPTION:Dear Mr. President\, There are too many states nowadays. Please\, eliminate three. P.S. I am not a crackpot. You don’t win friends with salad. I’m a Spalding Gray in a Rick Dees world. D’oh. A lifetime of working with nuclear power has left me with a healthy green glow…and left me as impotent as a Nevada boxing commissioner. No children have ever meddled with the Republican Party and lived to tell about it.
URL:https://www.stanleygrange.org.uk/event/weekend-long-adventure
CATEGORIES:Family Fun
ATTACH;FMTTYPE=:
END:VEVENT
BEGIN:VEVENT
DTSTART;VALUE=DATE:20150626
DTEND;VALUE=DATE:20190628
DTSTAMP:20260419T133217
CREATED:20190506T092946Z
LAST-MODIFIED:20190506T092946Z
UID:598-1435276800-1561679999@www.stanleygrange.org.uk
SUMMARY:Late Night Party
DESCRIPTION:Well\, I got better. Ah\, now we see the violence inherent in the system! The swallow may fly south with the sun\, and the house martin or the plover may seek warmer climes in winter\, yet these are not strangers to our land. It’s only a model. It’s only a model.
URL:https://www.stanleygrange.org.uk/event/late-night-party
CATEGORIES:Nightlife,Party
ATTACH;FMTTYPE=:
END:VEVENT
BEGIN:VEVENT
DTSTART;VALUE=DATE:20150611
DTEND;VALUE=DATE:20190612
DTSTAMP:20260419T133217
CREATED:20150506T092946Z
LAST-MODIFIED:20150506T092946Z
UID:597-1433980800-1560297599@www.stanleygrange.org.uk
SUMMARY:Rock Concert
DESCRIPTION:Hey\, Luke! May the Force be with you. Look\, I ain’t in this for your revolution\, and I’m not in it for you\, Princess. I expect to be well paid. I’m in it for the money. Ye-ha! What good is a reward if you ain’t around to use it? Besides\, attacking that battle station ain’t my idea of courage. It’s more like…suicide. Hey\, Luke! May the Force be with you. But with the blast shield down\, I can’t even see! How am I supposed to fight?
URL:https://www.stanleygrange.org.uk/event/rock-concert
CATEGORIES:Nightlife
ATTACH;FMTTYPE=:
END:VEVENT
BEGIN:VEVENT
DTSTART;VALUE=DATE:20150611
DTEND;VALUE=DATE:20190612
DTSTAMP:20260419T133217
CREATED:20150506T092633Z
LAST-MODIFIED:20150506T092633Z
UID:589-1433980800-1560297599@www.stanleygrange.org.uk
SUMMARY:Save National Park
DESCRIPTION:Fusce a ante nisl\, vitae pretium enim. Nunc imperdiet iaculis augue nec porta! Phasellus congue sapien eget libero ornare lobortis. Aliquam sit amet nulla velit\, in posuere tellus. Nul lorem.
URL:https://www.stanleygrange.org.uk/event/save-national-park
ATTACH;FMTTYPE=:
END:VEVENT
BEGIN:VEVENT
DTSTART;VALUE=DATE:20150605
DTEND;VALUE=DATE:20190607
DTSTAMP:20260419T133217
CREATED:20150506T092946Z
LAST-MODIFIED:20150506T092946Z
UID:599-1433462400-1559865599@www.stanleygrange.org.uk
SUMMARY:Farmer’s Market
DESCRIPTION:Who’s that then? Shh! Knights\, I bid you welcome to your new home. Let us ride to Camelot! Ah\, now we see the violence inherent in the system! The Lady of the Lake\, her arm clad in the purest shimmering samite\, held aloft Excalibur from the bosom of the water\, signifying by divine providence that I\, Arthur\, was to carry Excalibur.\nThat is why I am your king. Camelot!
URL:https://www.stanleygrange.org.uk/event/farmers-market
CATEGORIES:Family Fun
ATTACH;FMTTYPE=:
END:VEVENT
BEGIN:VEVENT
DTSTART;VALUE=DATE:20150530
DTEND;VALUE=DATE:20190531
DTSTAMP:20260419T133217
CREATED:20150506T092946Z
LAST-MODIFIED:20150506T092946Z
UID:592-1432944000-1559260799@www.stanleygrange.org.uk
SUMMARY:Movie Marathon
DESCRIPTION:What’s the point of going out? We’re just going to wind up back here anyway. I’m going to the back seat of my car\, with the woman I love\, and I won’t be back for ten minutes! And now\, in the spirit of the season: start shopping. And for every dollar of Krusty merchandise you buy\, I will be nice to a sick kid. For legal purposes\, sick kids may include hookers with a cold. The Internet King? I wonder if he could provide faster nudity… Yes! I am a citizen! Now which way to the welfare office? I’m kidding\, I’m kidding. I work\, I work.
URL:https://www.stanleygrange.org.uk/event/movie-marathon
CATEGORIES:Family Fun
ATTACH;FMTTYPE=:
END:VEVENT
BEGIN:VEVENT
DTSTART;VALUE=DATE:20150515
DTEND;VALUE=DATE:20190516
DTSTAMP:20260419T133217
CREATED:20150506T092408Z
LAST-MODIFIED:20150506T092408Z
UID:588-1431648000-1557964799@www.stanleygrange.org.uk
SUMMARY:Nature...Freedom
DESCRIPTION:Fusce a ante nisl\, vitae pretium enim. Nunc imperdiet iaculis augue nec porta! Phasellus congue sapien eget libero ornare lobortis. Aliquam sit amet nulla velit\, in posuere tellus. Nul lorem.
URL:https://www.stanleygrange.org.uk/event/nature-freedom
ATTACH;FMTTYPE=:
END:VEVENT
BEGIN:VEVENT
DTSTART;VALUE=DATE:20150510
DTEND;VALUE=DATE:20190511
DTSTAMP:20260419T133217
CREATED:20150505T094459Z
LAST-MODIFIED:20150505T094459Z
UID:523-1431216000-1557532799@www.stanleygrange.org.uk
SUMMARY:Save Virunga
DESCRIPTION:Fusce a ante nisl\, vitae pretium enim. Nunc imperdiet iaculis augue nec porta! Phasellus congue sapien eget libero ornare lobortis. Aliquam sit amet nulla velit\, in posuere tellus. Nul lorem.
URL:https://www.stanleygrange.org.uk/event/save-virunga
CATEGORIES:virunga
ATTACH;FMTTYPE=:
END:VEVENT
BEGIN:VEVENT
DTSTART;VALUE=DATE:20150507
DTEND;VALUE=DATE:20190508
DTSTAMP:20260419T133217
CREATED:20150506T092236Z
LAST-MODIFIED:20150506T092236Z
UID:587-1430956800-1557273599@www.stanleygrange.org.uk
SUMMARY:Make them smile
DESCRIPTION:Fusce a ante nisl\, vitae pretium enim. Nunc imperdiet iaculis augue nec porta! Phasellus congue sapien eget libero ornare lobortis. Aliquam sit amet nulla velit\, in posuere tellus. Nul lorem.
URL:https://www.stanleygrange.org.uk/event/make-them-smile
ATTACH;FMTTYPE=:
END:VEVENT
BEGIN:VEVENT
DTSTART;VALUE=DATE:20150505
DTEND;VALUE=DATE:20190506
DTSTAMP:20260419T133217
CREATED:20150505T091527Z
LAST-MODIFIED:20150505T091527Z
UID:520-1430784000-1557100799@www.stanleygrange.org.uk
SUMMARY:Help Children
DESCRIPTION:Fusce a ante nisl\, vitae pretium enim. Nunc imperdiet iaculis augue nec porta! Phasellus congue sapien eget libero ornare lobortis. Aliquam sit amet nulla velit\, in posuere tellus. Nul lorem.
URL:https://www.stanleygrange.org.uk/event/help-children
ATTACH;FMTTYPE=:
END:VEVENT
BEGIN:VEVENT
DTSTART;TZID=UTC:20140625T153000
DTEND;TZID=UTC:20190625T170000
DTSTAMP:20260419T133217
CREATED:20150506T092946Z
LAST-MODIFIED:20150506T092946Z
UID:590-1403710200-1561482000@www.stanleygrange.org.uk
SUMMARY:Birthday Party
DESCRIPTION:Why do you think that she is a witch? He hasn’t got shit all over him. Well\, I didn’t vote for you. A newt? Look\, my liege! I don’t want to talk to you no more\, you empty-headed animal food trough water! I fart in your general direction! Your mother was a hamster and your father smelt of elderberries! Now leave before I am forced to taunt you a second time!
URL:https://www.stanleygrange.org.uk/event/birthday-party
CATEGORIES:Party
END:VEVENT
END:VCALENDAR