BEGIN:VCALENDAR
VERSION:2.0
PRODID:-//Stanley Grange - ECPv6.15.20//NONSGML v1.0//EN
CALSCALE:GREGORIAN
METHOD:PUBLISH
X-ORIGINAL-URL:https://www.stanleygrange.org.uk
X-WR-CALDESC:Events for Stanley Grange
REFRESH-INTERVAL;VALUE=DURATION:PT1H
X-Robots-Tag:noindex
X-PUBLISHED-TTL:PT1H
BEGIN:VTIMEZONE
TZID:UTC
BEGIN:STANDARD
TZOFFSETFROM:+0000
TZOFFSETTO:+0000
TZNAME:UTC
DTSTART:20130101T000000
END:STANDARD
END:VTIMEZONE
BEGIN:VEVENT
DTSTART;VALUE=DATE:20150510
DTEND;VALUE=DATE:20190511
DTSTAMP:20260419T165954
CREATED:20150505T094459Z
LAST-MODIFIED:20150505T094459Z
UID:523-1431216000-1557532799@www.stanleygrange.org.uk
SUMMARY:Save Virunga
DESCRIPTION:Fusce a ante nisl\, vitae pretium enim. Nunc imperdiet iaculis augue nec porta! Phasellus congue sapien eget libero ornare lobortis. Aliquam sit amet nulla velit\, in posuere tellus. Nul lorem.
URL:https://www.stanleygrange.org.uk/event/save-virunga
CATEGORIES:virunga
ATTACH;FMTTYPE=:
END:VEVENT
BEGIN:VEVENT
DTSTART;VALUE=DATE:20150507
DTEND;VALUE=DATE:20190508
DTSTAMP:20260419T165954
CREATED:20150506T092236Z
LAST-MODIFIED:20150506T092236Z
UID:587-1430956800-1557273599@www.stanleygrange.org.uk
SUMMARY:Make them smile
DESCRIPTION:Fusce a ante nisl\, vitae pretium enim. Nunc imperdiet iaculis augue nec porta! Phasellus congue sapien eget libero ornare lobortis. Aliquam sit amet nulla velit\, in posuere tellus. Nul lorem.
URL:https://www.stanleygrange.org.uk/event/make-them-smile
ATTACH;FMTTYPE=:
END:VEVENT
BEGIN:VEVENT
DTSTART;VALUE=DATE:20150505
DTEND;VALUE=DATE:20190506
DTSTAMP:20260419T165954
CREATED:20150505T091527Z
LAST-MODIFIED:20150505T091527Z
UID:520-1430784000-1557100799@www.stanleygrange.org.uk
SUMMARY:Help Children
DESCRIPTION:Fusce a ante nisl\, vitae pretium enim. Nunc imperdiet iaculis augue nec porta! Phasellus congue sapien eget libero ornare lobortis. Aliquam sit amet nulla velit\, in posuere tellus. Nul lorem.
URL:https://www.stanleygrange.org.uk/event/help-children
ATTACH;FMTTYPE=:
END:VEVENT
BEGIN:VEVENT
DTSTART;TZID=UTC:20140625T153000
DTEND;TZID=UTC:20190625T170000
DTSTAMP:20260419T165954
CREATED:20150506T092946Z
LAST-MODIFIED:20150506T092946Z
UID:590-1403710200-1561482000@www.stanleygrange.org.uk
SUMMARY:Birthday Party
DESCRIPTION:Why do you think that she is a witch? He hasn’t got shit all over him. Well\, I didn’t vote for you. A newt? Look\, my liege! I don’t want to talk to you no more\, you empty-headed animal food trough water! I fart in your general direction! Your mother was a hamster and your father smelt of elderberries! Now leave before I am forced to taunt you a second time!
URL:https://www.stanleygrange.org.uk/event/birthday-party
CATEGORIES:Party
END:VEVENT
END:VCALENDAR